BEGIN:VCALENDAR
VERSION:2.0
PRODID:-//4egdla.sites.ecatholic.com//eCatholic//EN
X-WR-TIMEZONE:LocalTZ
BEGIN:VTIMEZONE
TZID:LocalTZ
X-LIC-LOCATION:LocalTZ
BEGIN:DAYLIGHT
TZOFFSETFROM:-0600
TZOFFSETTO:-0500
TZNAME:LocalTZ
DTSTART:19700308T020000
RRULE:FREQ=YEARLY;BYMONTH=3;BYDAY=2SU
END:DAYLIGHT
BEGIN:STANDARD
TZOFFSETFROM:-0500
TZOFFSETTO:-0600
TZNAME:LocalTZ
DTSTART:19701101T020000
RRULE:FREQ=YEARLY;BYMONTH=11;BYDAY=1SU
END:STANDARD
END:VTIMEZONE
BEGIN:VEVENT
UID:726704@4egdla.sites.ecatholic.com
DTSTAMP:20260421T233617Z
DTSTART:20260423T080000
DTEND:20260423T090000
RRULE:FREQ=WEEKLY;BYDAY=TH
EXDATE:20180329T080000,20201224T080000,20201231T080000
SUMMARY:Daily Mass
END:VEVENT
BEGIN:VEVENT
UID:726708@4egdla.sites.ecatholic.com
DTSTAMP:20260421T233617Z
DTSTART:20260424T080000
DTEND:20260424T090000
RRULE:FREQ=WEEKLY;BYDAY=FR
EXDATE:20180330T080000,20201225T080000,20210101T080000
SUMMARY:Daily Mass
END:VEVENT
BEGIN:VEVENT
UID:726743@4egdla.sites.ecatholic.com
DTSTAMP:20260421T233617Z
DTSTART:20260425T160000
DTEND:20260425T170000
RRULE:FREQ=WEEKLY;BYDAY=SA
EXDATE:20180331T160000,20240706T160000
SUMMARY:Vigil Mass
END:VEVENT
BEGIN:VEVENT
UID:726746@4egdla.sites.ecatholic.com
DTSTAMP:20260421T233617Z
DTSTART:20260425T153000
DTEND:20260425T163000
RRULE:FREQ=WEEKLY;BYDAY=SA
EXDATE:20180331T153000
SUMMARY:Confessions
END:VEVENT
BEGIN:VEVENT
UID:726766@4egdla.sites.ecatholic.com
DTSTAMP:20260421T233617Z
DTSTART:20260426T093000
DTEND:20260426T103000
RRULE:FREQ=WEEKLY;BYDAY=SU
SUMMARY:Confessions
END:VEVENT
BEGIN:VEVENT
UID:726767@4egdla.sites.ecatholic.com
DTSTAMP:20260421T233617Z
DTSTART:20260426T100000
DTEND:20260426T110000
RRULE:FREQ=WEEKLY;BYDAY=SU
EXDATE:20240707T100000
SUMMARY:Gospel Mass
END:VEVENT
BEGIN:VEVENT
UID:726768@4egdla.sites.ecatholic.com
DTSTAMP:20260421T233617Z
DTSTART:20260427T080000
DTEND:20260427T090000
RRULE:FREQ=WEEKLY;BYDAY=MO
EXDATE:20240701T080000
SUMMARY:Daily Mass
END:VEVENT
BEGIN:VEVENT
UID:726772@4egdla.sites.ecatholic.com
DTSTAMP:20260421T233617Z
DTSTART:20260421T080000
DTEND:20260421T090000
RRULE:FREQ=WEEKLY;BYDAY=TU
SUMMARY:Daily Mass
END:VEVENT
BEGIN:VEVENT
UID:726779@4egdla.sites.ecatholic.com
DTSTAMP:20260421T233617Z
DTSTART:20260422T080000
DTEND:20260422T090000
RRULE:FREQ=WEEKLY;BYDAY=WE
SUMMARY:Daily Mass
END:VEVENT
BEGIN:VEVENT
UID:2480860@4egdla.sites.ecatholic.com
DTSTAMP:20260421T233617Z
DTSTART:20260421T180000
DTEND:20260421T190000
RRULE:FREQ=WEEKLY;BYDAY=TU
SUMMARY:Gospel Choir Reheasal
END:VEVENT
BEGIN:VEVENT
UID:2480883@4egdla.sites.ecatholic.com
DTSTAMP:20260421T233617Z
DTSTART:20260421T083000
DTEND:20260421T093000
RRULE:FREQ=WEEKLY;BYDAY=TU
SUMMARY:St. Anthony Devotion
END:VEVENT
END:VCALENDAR
